BEGIN:VCALENDAR
VERSION:2.0
PRODID:-//l7calendar
BEGIN:VTIMEZONE
TZID:Europe/Berlin
X-LIC-LOCATION:Europe/Berlin
BEGIN:DAYLIGHT
TZOFFSETFROM:+0100
TZOFFSETTO:+0200
TZNAME:CEST
DTSTART:19700329T020000
RRULE:FREQ=YEARLY;INTERVAL=1;BYDAY=-1SU;BYMONTH=3
END:DAYLIGHT
BEGIN:STANDARD
TZOFFSETFROM:+0200
TZOFFSETTO:+0100
TZNAME:CET
DTSTART:19701025T030000
RRULE:FREQ=YEARLY;INTERVAL=1;BYDAY=-1SU;BYMONTH=10
END:STANDARD
END:VTIMEZONE
BEGIN:VEVENT
UID:2b58a63bfc18373880b0b3f22d3505bc@l7calendar
DTSTAMP:20260424T083629
SUMMARY:Deep Looking – Kunstwerke neu lesen und verstehen
DTSTART:20211015T150000
DTEND:20211015T170000
DESCRIPTION:Weiterbildung für Gästeführer*innen, Kirchenführer*innen, Kirchenöffner*innen und alle Kunst-Interessierten
END:VEVENT
END:VCALENDAR