BEGIN:VCALENDAR
VERSION:2.0
PRODID:-//l7calendar
BEGIN:VTIMEZONE
TZID:Europe/Berlin
X-LIC-LOCATION:Europe/Berlin
BEGIN:DAYLIGHT
TZOFFSETFROM:+0100
TZOFFSETTO:+0200
TZNAME:CEST
DTSTART:19700329T020000
RRULE:FREQ=YEARLY;INTERVAL=1;BYDAY=-1SU;BYMONTH=3
END:DAYLIGHT
BEGIN:STANDARD
TZOFFSETFROM:+0200
TZOFFSETTO:+0100
TZNAME:CET
DTSTART:19701025T030000
RRULE:FREQ=YEARLY;INTERVAL=1;BYDAY=-1SU;BYMONTH=10
END:STANDARD
END:VTIMEZONE
BEGIN:VEVENT
UID:971e3c958b61e16a3a3a0240c914b45b@l7calendar
DTSTAMP:20260424T083513
SUMMARY:GARTENSCHULE IV – Essbare und heilkräftige Wildpflanzen im Garten
DTSTART:20230520T100000
DTEND:20230520T170000
DESCRIPTION:Modul IV der GARTENSCHULE
END:VEVENT
END:VCALENDAR