BEGIN:VCALENDAR
VERSION:2.0
PRODID:-//l7calendar
BEGIN:VTIMEZONE
TZID:Europe/Berlin
X-LIC-LOCATION:Europe/Berlin
BEGIN:DAYLIGHT
TZOFFSETFROM:+0100
TZOFFSETTO:+0200
TZNAME:CEST
DTSTART:19700329T020000
RRULE:FREQ=YEARLY;INTERVAL=1;BYDAY=-1SU;BYMONTH=3
END:DAYLIGHT
BEGIN:STANDARD
TZOFFSETFROM:+0200
TZOFFSETTO:+0100
TZNAME:CET
DTSTART:19701025T030000
RRULE:FREQ=YEARLY;INTERVAL=1;BYDAY=-1SU;BYMONTH=10
END:STANDARD
END:VTIMEZONE
BEGIN:VEVENT
UID:4b52f53bd1cdd5522bd336e2c064eb3e@l7calendar
DTSTAMP:20260424T101002
SUMMARY:CHRISTLICHES LEBEN IN HALLE. Katholische Kirche Heilig Kreuz
DTSTART:20201008T150000
DTEND:20201008T163000
DESCRIPTION:Exkursionen in verschiedene Gotteshäuser der Stadt
END:VEVENT
END:VCALENDAR