BEGIN:VCALENDAR
VERSION:2.0
PRODID:-//l7calendar
BEGIN:VTIMEZONE
TZID:Europe/Berlin
X-LIC-LOCATION:Europe/Berlin
BEGIN:DAYLIGHT
TZOFFSETFROM:+0100
TZOFFSETTO:+0200
TZNAME:CEST
DTSTART:19700329T020000
RRULE:FREQ=YEARLY;INTERVAL=1;BYDAY=-1SU;BYMONTH=3
END:DAYLIGHT
BEGIN:STANDARD
TZOFFSETFROM:+0200
TZOFFSETTO:+0100
TZNAME:CET
DTSTART:19701025T030000
RRULE:FREQ=YEARLY;INTERVAL=1;BYDAY=-1SU;BYMONTH=10
END:STANDARD
END:VTIMEZONE
BEGIN:VEVENT
UID:5c5fa6e0101e68f247139283463a7902@l7calendar
DTSTAMP:20260424T083702
SUMMARY:Connect & Believe. KI und Digitalisierung in der kirchlichen Bildungsarbeit
DTSTART:20241115T000000
DTEND:20241115T235900
DESCRIPTION:Bundesweite Tagung
END:VEVENT
END:VCALENDAR