BEGIN:VCALENDAR
VERSION:2.0
PRODID:-//l7calendar
BEGIN:VTIMEZONE
TZID:Europe/Berlin
X-LIC-LOCATION:Europe/Berlin
BEGIN:DAYLIGHT
TZOFFSETFROM:+0100
TZOFFSETTO:+0200
TZNAME:CEST
DTSTART:19700329T020000
RRULE:FREQ=YEARLY;INTERVAL=1;BYDAY=-1SU;BYMONTH=3
END:DAYLIGHT
BEGIN:STANDARD
TZOFFSETFROM:+0200
TZOFFSETTO:+0100
TZNAME:CET
DTSTART:19701025T030000
RRULE:FREQ=YEARLY;INTERVAL=1;BYDAY=-1SU;BYMONTH=10
END:STANDARD
END:VTIMEZONE
BEGIN:VEVENT
UID:448edd3f8ef697c8656eb08d6d011408@l7calendar
DTSTAMP:20260424T083833
SUMMARY:Kirchenhüten praktisch – Tipps und Tricks
DTSTART:20250508T180000
DTEND:20250508T200000
DESCRIPTION:Modul 3 der FORTBILDUNG FÜR KIRCHENHÜTER
END:VEVENT
END:VCALENDAR